BEGIN:VCALENDAR
VERSION:2.0
PRODID:-//hacksw/handcal//NONSGML v1.0//EN
BEGIN:VEVENT
SUMMARY:Creneaux vacances
UID:34a674c0-1fc5-4c46-8bf8-e74b2b1ff47b
DTSTART:20260419T220000Z
DTEND:20260503T220000Z
LOCATION:Localisation   
CATEGORIES:Sportif
STATUS:
DESCRIPTION:<p>Creneaux reserves aux adherents du club.</p>
URL;VALUE=URI:https://www.mas-badminton.com/evenements/2026/04/20/creneaux-vacances-2282216
END:VEVENT
END:VCALENDAR
