BEGIN:VCALENDAR
VERSION:2.0
PRODID:-//hacksw/handcal//NONSGML v1.0//EN
BEGIN:VEVENT
SUMMARY:VILLEBON - Evenement jeunes 2025-2026
UID:9f0ecb0b-9911-4d18-8211-79b11756a75c
DTSTART:20260509T220000Z
DTEND:20260510T220000Z
LOCATION:Localisation   
CATEGORIES:Sportif
STATUS:
DESCRIPTION:<p>VILLEBON LE 10 MAI 2026</p>
URL;VALUE=URI:https://www.mas-badminton.com/evenements/2026/05/10/villebon-evenement-jeunes-2025-2026-2282341
END:VEVENT
END:VCALENDAR
